
BEGIN:VCALENDAR
VERSION:2.0
PRODID:-//Assemblée Nationale du Bénin - ECPv4.9.9//NONSGML v1.0//EN
CALSCALE:GREGORIAN
METHOD:PUBLISH
X-WR-CALNAME:Assemblée Nationale du Bénin
X-ORIGINAL-URL:https://assemblee-nationale.bj
X-WR-CALDESC:Évènements pour Assemblée Nationale du Bénin
BEGIN:VTIMEZONE
TZID:Africa/Porto-Novo
BEGIN:STANDARD
TZOFFSETFROM:+0100
TZOFFSETTO:+0100
TZNAME:WAT
DTSTART:20200101T000000
END:STANDARD
END:VTIMEZONE
BEGIN:VEVENT
DTSTART;TZID=Africa/Porto-Novo:20200428T080000
DTEND;TZID=Africa/Porto-Novo:20200430T170000
DTSTAMP:20260424T154426
CREATED:20200428T145308Z
LAST-MODIFIED:20200428T145308Z
UID:3622-1588060800-1588266000@assemblee-nationale.bj
SUMMARY:Séance plénière le jeudi 30 Avril 2020 à 10 h au palais des Gouverneurs à Porto-Novo.
DESCRIPTION:
URL:https://assemblee-nationale.bj/index.php/event/seance-pleniere-le-jeudi-30-avril-2020-a-10-h-au-palais-des-gouverneurs-a-porto-novo/
LOCATION:Palais des Gouverneurs à Porto-Novo\, Quartier Oganla\, BP 371 Porto-Novo\, Porto-Novo\, Porto-Novo\, 229\, Bénin
END:VEVENT
END:VCALENDAR